BEGIN:VCALENDAR
VERSION:2.0
PRODID:-//eventon.com NONSGML v1.0//EN
BEGIN:VEVENT
UID:69e99d6d76c19
DTSTAMP:20260423T041749
DTSTART:20260520T140000Z
DTEND:20260520T235000Z
LOCATION:Virtual 
SUMMARY:Interference Hunting Through Angle of Arrival
DESCRIPTION: Interference Hunting Through Angle of Arrival
END:VEVENT
END:VCALENDAR